BEGIN:VCALENDAR
VERSION:2.0
PRODID:-//Fortress Obetz - ECPv6.15.20//NONSGML v1.0//EN
CALSCALE:GREGORIAN
METHOD:PUBLISH
X-WR-CALNAME:Fortress Obetz
X-ORIGINAL-URL:https://fortressobetz.com
X-WR-CALDESC:Events for Fortress Obetz
REFRESH-INTERVAL;VALUE=DURATION:PT1H
X-Robots-Tag:noindex
X-PUBLISHED-TTL:PT1H
BEGIN:VTIMEZONE
TZID:America/New_York
BEGIN:DAYLIGHT
TZOFFSETFROM:-0500
TZOFFSETTO:-0400
TZNAME:EDT
DTSTART:20250309T070000
END:DAYLIGHT
BEGIN:STANDARD
TZOFFSETFROM:-0400
TZOFFSETTO:-0500
TZNAME:EST
DTSTART:20251102T060000
END:STANDARD
BEGIN:DAYLIGHT
TZOFFSETFROM:-0500
TZOFFSETTO:-0400
TZNAME:EDT
DTSTART:20260308T070000
END:DAYLIGHT
BEGIN:STANDARD
TZOFFSETFROM:-0400
TZOFFSETTO:-0500
TZNAME:EST
DTSTART:20261101T060000
END:STANDARD
BEGIN:DAYLIGHT
TZOFFSETFROM:-0500
TZOFFSETTO:-0400
TZNAME:EDT
DTSTART:20270314T070000
END:DAYLIGHT
BEGIN:STANDARD
TZOFFSETFROM:-0400
TZOFFSETTO:-0500
TZNAME:EST
DTSTART:20271107T060000
END:STANDARD
END:VTIMEZONE
BEGIN:VEVENT
DTSTART;TZID=America/New_York:20260505T190000
DTEND;TZID=America/New_York:20260505T203000
DTSTAMP:20260424T122037
CREATED:20260423T164100Z
LAST-MODIFIED:20260423T164700Z
UID:10001096-1778007600-1778013000@fortressobetz.com
SUMMARY:Canal Winchester Lacrosse
DESCRIPTION:In the heart of Canal Winchester\, lacrosse thrives as an exhilarating expression of athleticism and camaraderie\, inviting players of all skill levels to unite on vibrant fields driven by their shared love for the sport\, while fostering values like determination\, integrity\, and community connection.
URL:https://fortressobetz.com/event/canal-winchester-lacrosse/2026-05-05/
LOCATION:Fortress Obetz\, 2015 Recreation Trail\, Obetz\, OH\, 43207\, United States
CATEGORIES:Lacrosse
ATTACH;FMTTYPE=image/png:https://fortressobetz.com/wp-content/uploads/2026/04/Canal-Winchester-Athletic-Logo.png
END:VEVENT
END:VCALENDAR