BEGIN:VCALENDAR
VERSION:2.0
PRODID:-//Fortress Obetz - ECPv6.15.20//NONSGML v1.0//EN
CALSCALE:GREGORIAN
METHOD:PUBLISH
X-WR-CALNAME:Fortress Obetz
X-ORIGINAL-URL:https://fortressobetz.com
X-WR-CALDESC:Events for Fortress Obetz
REFRESH-INTERVAL;VALUE=DURATION:PT1H
X-Robots-Tag:noindex
X-PUBLISHED-TTL:PT1H
BEGIN:VTIMEZONE
TZID:America/New_York
BEGIN:DAYLIGHT
TZOFFSETFROM:-0500
TZOFFSETTO:-0400
TZNAME:EDT
DTSTART:20220313T070000
END:DAYLIGHT
BEGIN:STANDARD
TZOFFSETFROM:-0400
TZOFFSETTO:-0500
TZNAME:EST
DTSTART:20221106T060000
END:STANDARD
BEGIN:DAYLIGHT
TZOFFSETFROM:-0500
TZOFFSETTO:-0400
TZNAME:EDT
DTSTART:20230312T070000
END:DAYLIGHT
BEGIN:STANDARD
TZOFFSETFROM:-0400
TZOFFSETTO:-0500
TZNAME:EST
DTSTART:20231105T060000
END:STANDARD
BEGIN:DAYLIGHT
TZOFFSETFROM:-0500
TZOFFSETTO:-0400
TZNAME:EDT
DTSTART:20240310T070000
END:DAYLIGHT
BEGIN:STANDARD
TZOFFSETFROM:-0400
TZOFFSETTO:-0500
TZNAME:EST
DTSTART:20241103T060000
END:STANDARD
BEGIN:DAYLIGHT
TZOFFSETFROM:-0500
TZOFFSETTO:-0400
TZNAME:EDT
DTSTART:20250309T070000
END:DAYLIGHT
BEGIN:STANDARD
TZOFFSETFROM:-0400
TZOFFSETTO:-0500
TZNAME:EST
DTSTART:20251102T060000
END:STANDARD
BEGIN:DAYLIGHT
TZOFFSETFROM:-0500
TZOFFSETTO:-0400
TZNAME:EDT
DTSTART:20260308T070000
END:DAYLIGHT
BEGIN:STANDARD
TZOFFSETFROM:-0400
TZOFFSETTO:-0500
TZNAME:EST
DTSTART:20261101T060000
END:STANDARD
BEGIN:DAYLIGHT
TZOFFSETFROM:-0500
TZOFFSETTO:-0400
TZNAME:EDT
DTSTART:20270314T070000
END:DAYLIGHT
BEGIN:STANDARD
TZOFFSETFROM:-0400
TZOFFSETTO:-0500
TZNAME:EST
DTSTART:20271107T060000
END:STANDARD
END:VTIMEZONE
BEGIN:VEVENT
DTSTART;TZID=America/New_York:20260416T190000
DTEND;TZID=America/New_York:20260416T203000
DTSTAMP:20260424T123608
CREATED:20260423T164100Z
LAST-MODIFIED:20260423T164700Z
UID:10001095-1776366000-1776371400@fortressobetz.com
SUMMARY:Canal Winchester Lacrosse
DESCRIPTION:In the heart of Canal Winchester\, lacrosse thrives as an exhilarating expression of athleticism and camaraderie\, inviting players of all skill levels to unite on vibrant fields driven by their shared love for the sport\, while fostering values like determination\, integrity\, and community connection.
URL:https://fortressobetz.com/event/canal-winchester-lacrosse/2026-04-16/
LOCATION:Fortress Obetz\, 2015 Recreation Trail\, Obetz\, OH\, 43207\, United States
CATEGORIES:Lacrosse
ATTACH;FMTTYPE=image/png:https://fortressobetz.com/wp-content/uploads/2026/04/Canal-Winchester-Athletic-Logo.png
END:VEVENT
BEGIN:VEVENT
DTSTART;TZID=America/New_York:20260327T190000
DTEND;TZID=America/New_York:20260327T203000
DTSTAMP:20260424T123608
CREATED:20260423T164100Z
LAST-MODIFIED:20260423T164700Z
UID:10001094-1774638000-1774643400@fortressobetz.com
SUMMARY:Canal Winchester Lacrosse
DESCRIPTION:In the heart of Canal Winchester\, lacrosse thrives as an exhilarating expression of athleticism and camaraderie\, inviting players of all skill levels to unite on vibrant fields driven by their shared love for the sport\, while fostering values like determination\, integrity\, and community connection.
URL:https://fortressobetz.com/event/canal-winchester-lacrosse/2026-03-27/
LOCATION:Fortress Obetz\, 2015 Recreation Trail\, Obetz\, OH\, 43207\, United States
CATEGORIES:Lacrosse
ATTACH;FMTTYPE=image/png:https://fortressobetz.com/wp-content/uploads/2026/04/Canal-Winchester-Athletic-Logo.png
END:VEVENT
BEGIN:VEVENT
DTSTART;TZID=America/New_York:20250731T090000
DTEND;TZID=America/New_York:20250731T160000
DTSTAMP:20260424T123608
CREATED:20250213T142309Z
LAST-MODIFIED:20250213T142316Z
UID:10000844-1753952400-1753977600@fortressobetz.com
SUMMARY:Endless Summer Jamboree - Lacrosse
DESCRIPTION:The Endless Summer Jamboree is in its fourth year. The format is several short mini games. The goal is to get each team at least 130 minutes of play and see as many different teams as possible. Last year teams played 8 games that were 17 minutes long.The Jambo for the high school ages is strictly for high school teams.  If a high school doesn’t have enough players they can combine with another high school to complete the roster. The goal is to have fun and enjoy a great day of lacrosse. \nPlease email Bear@allohiolacrosse.com with any questions that you may have.
URL:https://fortressobetz.com/event/endless-summer-jamboree-lacrosse-2/
LOCATION:Fortress Obetz/Memorial Park\, 2015 Recreation Trail\, Obetz\, OH\, 43207\, United States
CATEGORIES:Lacrosse
ATTACH;FMTTYPE=image/jpeg:https://fortressobetz.com/wp-content/uploads/2024/07/all-ohio-lacrosse.jpg
END:VEVENT
BEGIN:VEVENT
DTSTART;TZID=America/New_York:20250601T080000
DTEND;TZID=America/New_York:20250601T180000
DTSTAMP:20260424T123608
CREATED:20250519T124923Z
LAST-MODIFIED:20250519T124927Z
UID:10000903-1748764800-1748800800@fortressobetz.com
SUMMARY:Ohio Cup - Lacrosse
DESCRIPTION:Explore all the event details\, additional information\, and exact event times HERE!
URL:https://fortressobetz.com/event/ohio-cup-lacrosse-2/
LOCATION:Memorial Park\, 4175 Alum Creek Dr\, Obetz\, OH\, 43207\, United States
CATEGORIES:Lacrosse
ATTACH;FMTTYPE=image/jpeg:https://fortressobetz.com/wp-content/uploads/2024/07/all-ohio-lacrosse.jpg
END:VEVENT
BEGIN:VEVENT
DTSTART;TZID=America/New_York:20250503T080000
DTEND;TZID=America/New_York:20250503T180000
DTSTAMP:20260424T123608
CREATED:20250212T140849Z
LAST-MODIFIED:20250503T101425Z
UID:10000836-1746259200-1746295200@fortressobetz.com
SUMMARY:CANCELED-Resolute Shootout Lacrosse Tournament
DESCRIPTION:Based in Columbus\, Ohio Resolute Lacrosse is a leader in lacrosse training and athlete development. Founded in 2009 by Ohio State varsity lacrosse alumni and Major League Lacrosse all-stars Greg Bice and Anthony Kelly\, Resolute Lacrosse hosts position clinics\, training sessions\, individual lessons\, coaching clinics\, elite teams & camps! Their goal is to offer the highest level of training by the best coaches in the entire country.
URL:https://fortressobetz.com/event/resolute-lacrosse-shootout/
LOCATION:Fortress Obetz/Memorial Park\, 2015 Recreation Trail\, Obetz\, OH\, 43207\, United States
CATEGORIES:Lacrosse
ATTACH;FMTTYPE=image/png:https://fortressobetz.com/wp-content/uploads/2025/02/Shootout-Logo-2048x2031-1.png
END:VEVENT
BEGIN:VEVENT
DTSTART;TZID=America/New_York:20240725T090000
DTEND;TZID=America/New_York:20240725T160000
DTSTAMP:20260424T123608
CREATED:20240713T145343Z
LAST-MODIFIED:20240713T145628Z
UID:10000605-1721898000-1721923200@fortressobetz.com
SUMMARY:Endless Summer Jamboree - Lacrosse
DESCRIPTION:The Endless Summer Jamboree is in its fourth year. The format is several short mini games. The goal is to get each team at least 130 minutes of play and see as many different teams as possible. Last year teams played 8 games that were 17 minutes long.The Jambo for the high school ages is strictly for high school teams.  If a high school doesn’t have enough players they can combine with another high school to complete the roster. The goal is to have fun and enjoy a great day of lacrosse.Please Note:*Any new HS rule that will be implemented in 2023 will be on trial for the jambo so teams and referees can get used to them \nPlease email Bear@allohiolacrosse.com with any questions that you may have.
URL:https://fortressobetz.com/event/endless-summer-jamboree-lacrosse/
LOCATION:Fortress Obetz/Memorial Park\, 2015 Recreation Trail\, Obetz\, OH\, 43207\, United States
CATEGORIES:Lacrosse
ATTACH;FMTTYPE=image/jpeg:https://fortressobetz.com/wp-content/uploads/2024/07/all-ohio-lacrosse.jpg
END:VEVENT
BEGIN:VEVENT
DTSTART;TZID=America/New_York:20240615T120000
DTEND;TZID=America/New_York:20240615T233000
DTSTAMP:20260424T123608
CREATED:20240410T162549Z
LAST-MODIFIED:20240602T142650Z
UID:10000197-1718452800-1718494200@fortressobetz.com
SUMMARY:Shootout for Soldiers
DESCRIPTION:Explore all the event details\, additional information\, and exact event times HERE!
URL:https://fortressobetz.com/event/shootout-for-soldiers/
LOCATION:Fortress Obetz\, 2015 Recreation Trail\, Obetz\, OH\, 43207\, United States
CATEGORIES:Lacrosse
ATTACH;FMTTYPE=image/jpeg:https://fortressobetz.com/wp-content/uploads/2024/04/Shootout-for-Soldiers.jpeg
END:VEVENT
BEGIN:VEVENT
DTSTART;TZID=America/New_York:20240602T080000
DTEND;TZID=America/New_York:20240602T180000
DTSTAMP:20260424T123608
CREATED:20240410T155242Z
LAST-MODIFIED:20240528T214150Z
UID:10000191-1717315200-1717351200@fortressobetz.com
SUMMARY:Ohio Cup - Lacrosse
DESCRIPTION:Explore all the event details\, additional information\, and exact event times HERE!
URL:https://fortressobetz.com/event/ohio-cup-lacrosse/
LOCATION:Memorial Park\, 4175 Alum Creek Dr\, Obetz\, OH\, 43207\, United States
CATEGORIES:Lacrosse
ATTACH;FMTTYPE=image/jpeg:https://fortressobetz.com/wp-content/uploads/2024/04/EwIzvbmWYAUtGcX.jpg
END:VEVENT
BEGIN:VEVENT
DTSTART;TZID=America/New_York:20240504T080000
DTEND;TZID=America/New_York:20240504T180000
DTSTAMP:20260424T123608
CREATED:20240205T164303Z
LAST-MODIFIED:20240205T164306Z
UID:10000129-1714809600-1714845600@fortressobetz.com
SUMMARY:Resolute Lacrosse
DESCRIPTION:Based in Columbus\, Ohio Resolute Lacrosse is a leader in lacrosse training and athlete development. Founded in 2009 by Ohio State varsity lacrosse alumni and Major League Lacrosse all-stars Greg Bice and Anthony Kelly\, Resolute Lacrosse hosts position clinics\, training sessions\, individual lessons\, coaching clinics\, elite teams & camps! Their goal is to offer the highest level of training by the best coaches in the entire country.
URL:https://fortressobetz.com/event/resolute-lacrosse/
LOCATION:Fortress Obetz/Memorial Park\, 2015 Recreation Trail\, Obetz\, OH\, 43207\, United States
CATEGORIES:Lacrosse
ATTACH;FMTTYPE=image/png:https://fortressobetz.com/wp-content/uploads/2024/02/Resolute-Lacrosse.png
END:VEVENT
BEGIN:VEVENT
DTSTART;TZID=America/New_York:20240425T173000
DTEND;TZID=America/New_York:20240425T210000
DTSTAMP:20260424T123608
CREATED:20240425T141116Z
LAST-MODIFIED:20240425T141226Z
UID:10000214-1714066200-1714078800@fortressobetz.com
SUMMARY:Grove City Lacrosse Game
DESCRIPTION:Visit the Grove City Lacrosse Club website to read more about the organization.
URL:https://fortressobetz.com/event/grove-city-lacrosse-game/
LOCATION:Fortress Obetz\, 2015 Recreation Trail\, Obetz\, OH\, 43207\, United States
CATEGORIES:Lacrosse
ATTACH;FMTTYPE=image/jpeg:https://fortressobetz.com/wp-content/uploads/2024/04/Grove-City-Lacrosse-logo-B5.jpg
END:VEVENT
BEGIN:VEVENT
DTSTART;VALUE=DATE:20230506
DTEND;VALUE=DATE:20230507
DTSTAMP:20260424T123608
CREATED:20230216T220037Z
LAST-MODIFIED:20230418T144155Z
UID:10000022-1683331200-1683417599@fortressobetz.com
SUMMARY:Resolute Shootout
DESCRIPTION:The Resolute Shootout is a premier Midwest youth lacrosse tournament hosted in Columbus\, OH by Resolute Lacrosse.  There will be six boys divisions: 5th/6th grade\, 5th/6th grade B\, 5th/6th Grade C\, 3rd/4th grde A\, 3rd/4th grade B\, and K-2nd grade.
URL:https://fortressobetz.com/event/resolute-shootout/
LOCATION:Memorial Park\, 4175 Alum Creek Dr\, Obetz\, OH\, 43207\, United States
CATEGORIES:Lacrosse
ATTACH;FMTTYPE=image/jpeg:https://fortressobetz.com/wp-content/uploads/2023/02/Shootout-Logo.jpg
END:VEVENT
END:VCALENDAR