BEGIN:VCALENDAR
VERSION:2.0
PRODID:-//Fortress Obetz - ECPv6.15.20//NONSGML v1.0//EN
CALSCALE:GREGORIAN
METHOD:PUBLISH
X-WR-CALNAME:Fortress Obetz
X-ORIGINAL-URL:https://fortressobetz.com
X-WR-CALDESC:Events for Fortress Obetz
REFRESH-INTERVAL;VALUE=DURATION:PT1H
X-Robots-Tag:noindex
X-PUBLISHED-TTL:PT1H
BEGIN:VTIMEZONE
TZID:America/New_York
BEGIN:DAYLIGHT
TZOFFSETFROM:-0500
TZOFFSETTO:-0400
TZNAME:EDT
DTSTART:20250309T070000
END:DAYLIGHT
BEGIN:STANDARD
TZOFFSETFROM:-0400
TZOFFSETTO:-0500
TZNAME:EST
DTSTART:20251102T060000
END:STANDARD
BEGIN:DAYLIGHT
TZOFFSETFROM:-0500
TZOFFSETTO:-0400
TZNAME:EDT
DTSTART:20260308T070000
END:DAYLIGHT
BEGIN:STANDARD
TZOFFSETFROM:-0400
TZOFFSETTO:-0500
TZNAME:EST
DTSTART:20261101T060000
END:STANDARD
BEGIN:DAYLIGHT
TZOFFSETFROM:-0500
TZOFFSETTO:-0400
TZNAME:EDT
DTSTART:20270314T070000
END:DAYLIGHT
BEGIN:STANDARD
TZOFFSETFROM:-0400
TZOFFSETTO:-0500
TZNAME:EST
DTSTART:20271107T060000
END:STANDARD
END:VTIMEZONE
BEGIN:VEVENT
DTSTART;TZID=America/New_York:20260424T180000
DTEND;TZID=America/New_York:20260424T220000
DTSTAMP:20260424T122036
CREATED:20260423T161652Z
LAST-MODIFIED:20260423T161652Z
UID:10001051-1777053600-1777068000@fortressobetz.com
SUMMARY:Buckeye Quarter Midget Racing
DESCRIPTION:Discover complete event details\, additional information\, and exact times on the Buckeye Quarter Midget Racing Association website!
URL:https://fortressobetz.com/event/buckeye-quarter-midget-racing-3/2026-04-24/
LOCATION:Quarter Midget Track\, 2015 Recreation Trail\, Obetz\, 43207
CATEGORIES:Quarter Midget Racing
ATTACH;FMTTYPE=image/png:https://fortressobetz.com/wp-content/uploads/2023/04/7.png
END:VEVENT
END:VCALENDAR