BEGIN:VCALENDAR
VERSION:2.0
PRODID:-//Fortress Obetz - ECPv6.15.20//NONSGML v1.0//EN
CALSCALE:GREGORIAN
METHOD:PUBLISH
X-WR-CALNAME:Fortress Obetz
X-ORIGINAL-URL:https://fortressobetz.com
X-WR-CALDESC:Events for Fortress Obetz
REFRESH-INTERVAL;VALUE=DURATION:PT1H
X-Robots-Tag:noindex
X-PUBLISHED-TTL:PT1H
BEGIN:VTIMEZONE
TZID:America/New_York
BEGIN:DAYLIGHT
TZOFFSETFROM:-0500
TZOFFSETTO:-0400
TZNAME:EDT
DTSTART:20250309T070000
END:DAYLIGHT
BEGIN:STANDARD
TZOFFSETFROM:-0400
TZOFFSETTO:-0500
TZNAME:EST
DTSTART:20251102T060000
END:STANDARD
BEGIN:DAYLIGHT
TZOFFSETFROM:-0500
TZOFFSETTO:-0400
TZNAME:EDT
DTSTART:20260308T070000
END:DAYLIGHT
BEGIN:STANDARD
TZOFFSETFROM:-0400
TZOFFSETTO:-0500
TZNAME:EST
DTSTART:20261101T060000
END:STANDARD
BEGIN:DAYLIGHT
TZOFFSETFROM:-0500
TZOFFSETTO:-0400
TZNAME:EDT
DTSTART:20270314T070000
END:DAYLIGHT
BEGIN:STANDARD
TZOFFSETFROM:-0400
TZOFFSETTO:-0500
TZNAME:EST
DTSTART:20271107T060000
END:STANDARD
END:VTIMEZONE
BEGIN:VEVENT
DTSTART;TZID=America/New_York:20260606T120000
DTEND;TZID=America/New_York:20260606T220000
DTSTAMP:20260424T142427
CREATED:20260423T190424Z
LAST-MODIFIED:20260423T190429Z
UID:10001100-1780747200-1780783200@fortressobetz.com
SUMMARY:Columbus Taco Fest
DESCRIPTION:Discover Columbus’ best taco vendors\, savor the tastiest taco recipes\, and immerse yourself in the most exciting taco-themed fiesta. Whether you’re a taco connoisseur or simply a lover of delicious Mexican cuisine\, you won’t want to miss our annual festival. Join us for two days of tacos\, fun\, delicious food\, drinks\, and live music. ¡Viva los tacos!
URL:https://fortressobetz.com/event/columbus-taco-fest/2026-06-06/
LOCATION:Fortress Obetz\, 2015 Recreation Trail\, Obetz\, OH\, 43207\, United States
CATEGORIES:Festival
ATTACH;FMTTYPE=image/jpeg:https://fortressobetz.com/wp-content/uploads/2026/04/2026-taco-fest.jpg
END:VEVENT
END:VCALENDAR